BEGIN:VCALENDAR
VERSION:2.0
PRODID:-//Anne Arundel Weed Resistance - ECPv6.15.20//NONSGML v1.0//EN
CALSCALE:GREGORIAN
METHOD:PUBLISH
X-WR-CALNAME:Anne Arundel Weed Resistance
X-ORIGINAL-URL:https://www.anne-arundel-weed-resistance.org
X-WR-CALDESC:Events for Anne Arundel Weed Resistance
REFRESH-INTERVAL;VALUE=DURATION:PT1H
X-Robots-Tag:noindex
X-PUBLISHED-TTL:PT1H
BEGIN:VTIMEZONE
TZID:America/New_York
BEGIN:DAYLIGHT
TZOFFSETFROM:-0500
TZOFFSETTO:-0400
TZNAME:EDT
DTSTART:20250309T070000
END:DAYLIGHT
BEGIN:STANDARD
TZOFFSETFROM:-0400
TZOFFSETTO:-0500
TZNAME:EST
DTSTART:20251102T060000
END:STANDARD
BEGIN:DAYLIGHT
TZOFFSETFROM:-0500
TZOFFSETTO:-0400
TZNAME:EDT
DTSTART:20260308T070000
END:DAYLIGHT
BEGIN:STANDARD
TZOFFSETFROM:-0400
TZOFFSETTO:-0500
TZNAME:EST
DTSTART:20261101T060000
END:STANDARD
BEGIN:DAYLIGHT
TZOFFSETFROM:-0500
TZOFFSETTO:-0400
TZNAME:EDT
DTSTART:20270314T070000
END:DAYLIGHT
BEGIN:STANDARD
TZOFFSETFROM:-0400
TZOFFSETTO:-0500
TZNAME:EST
DTSTART:20271107T060000
END:STANDARD
END:VTIMEZONE
BEGIN:VEVENT
DTSTART;TZID=America/New_York:20260307T100000
DTEND;TZID=America/New_York:20260307T120000
DTSTAMP:20260423T120609
CREATED:20260113T172054Z
LAST-MODIFIED:20260225T144033Z
UID:3195-1772877600-1772884800@www.anne-arundel-weed-resistance.org
SUMMARY:Broadneck Invasive Removal Event
DESCRIPTION:  \nHello everyone\, SOT (Save Our Trees) is hosting an invasive removal event at Broadneck Park\, and AAWR will be there to co-host\, help\, and support the event. More details about the event are listed below. If you’d like to register for the event\, you can do so by clicking this link: https://forms.gle/5DK5JqQ7s7V8fxjs6| If you have any questions or comments\, email them to annearundelwr@gmail.com. Looking forward to seeing everyone at the event! \nWhere: Broadneck Park\, 613 College Parkway\, Annapolis\, MD 21409 \nWhen: March 7th\, 2026\, from 9:45 am – 12:00 pm \nWhat to bring: water / snacks\, long-sleeved shirt / long pants\, tennis shoes or boots you don’t mind getting dirty\, gloves (if you have them) hat\, sunglasses\, and bug-spray if you wish to have them. \nShare this:\n				Share on X (Opens in new window)\n				X\n			\n				Share on Facebook (Opens in new window)\n				Facebook
URL:https://www.anne-arundel-weed-resistance.org/event-info/broadneck-invasive-removal-event/
LOCATION:Broadneck Park\, 613 College Park\, Annapolis\, MD\, 21409\, United States
ORGANIZER;CN="AAWR":MAILTO:annearundelwr@gmail.com
END:VEVENT
BEGIN:VEVENT
DTSTART;TZID=America/New_York:20260321T100000
DTEND;TZID=America/New_York:20260321T120000
DTSTAMP:20260423T120609
CREATED:20260113T124942Z
LAST-MODIFIED:20260113T124942Z
UID:3175-1774087200-1774094400@www.anne-arundel-weed-resistance.org
SUMMARY:Healthy Forests Workday: Invasive Plant Removal at Bacon Ridge Natural Area - Scenic Rivers Land Trust
DESCRIPTION:Volunteers will be working on designated trail sections to remove specific invasive plant species.\nVolunteers will be trained in how to identify and remove these plants.\nWork gloves and tools can be provided by Scenic Rivers\, though volunteers are welcome to bring their own gear.\n\n\nTo participate\, volunteers must:\n\n\nBe 16 years or older to attend without a supervising adult. Volunteers aged 10 to 15 may attend with an accompanying adult(s) to supervise work;\nBe able to hike up to 1 mile to get to designated work areas.\nWear long sleeve shirts\, long pants\, and closed toed shoes. Poison ivy is present in these work areas.\nBring a full water bottle.\n\nWe must have at least 5 registered volunteers for the workday to proceed. So\, be sure to invite some friends!\nControlling invasive species infestations is a big job and we’ll be happy to have as much help as possible! \n\nPlease visit SRLT.org/events to register for the workday!\nShare this:\n				Share on X (Opens in new window)\n				X\n			\n				Share on Facebook (Opens in new window)\n				Facebook
URL:https://www.anne-arundel-weed-resistance.org/event-info/healthy-forests-workday-invasive-plant-removal-at-bacon-ridge-natural-area-scenic-rivers-land-trust/
LOCATION:Bacon Ridge Natural Area\, 1284 Bacon Ridge Road\, Crownsville\, MD\, 21032\, United States
ATTACH;FMTTYPE=image/png:https://www.anne-arundel-weed-resistance.org/wp-content/uploads/2026/01/SLRT-event-Pic.png
ORGANIZER;CN="Scenic Rivers Land Trust":MAILTO:Luke@SRLT.org
END:VEVENT
END:VCALENDAR