BEGIN:VCALENDAR
VERSION:2.0
PRODID:-//Anne Arundel Weed Resistance - ECPv6.15.20//NONSGML v1.0//EN
CALSCALE:GREGORIAN
METHOD:PUBLISH
X-ORIGINAL-URL:https://www.anne-arundel-weed-resistance.org
X-WR-CALDESC:Events for Anne Arundel Weed Resistance
REFRESH-INTERVAL;VALUE=DURATION:PT1H
X-Robots-Tag:noindex
X-PUBLISHED-TTL:PT1H
BEGIN:VTIMEZONE
TZID:America/New_York
BEGIN:DAYLIGHT
TZOFFSETFROM:-0500
TZOFFSETTO:-0400
TZNAME:EDT
DTSTART:20250309T070000
END:DAYLIGHT
BEGIN:STANDARD
TZOFFSETFROM:-0400
TZOFFSETTO:-0500
TZNAME:EST
DTSTART:20251102T060000
END:STANDARD
BEGIN:DAYLIGHT
TZOFFSETFROM:-0500
TZOFFSETTO:-0400
TZNAME:EDT
DTSTART:20260308T070000
END:DAYLIGHT
BEGIN:STANDARD
TZOFFSETFROM:-0400
TZOFFSETTO:-0500
TZNAME:EST
DTSTART:20261101T060000
END:STANDARD
BEGIN:DAYLIGHT
TZOFFSETFROM:-0500
TZOFFSETTO:-0400
TZNAME:EDT
DTSTART:20270314T070000
END:DAYLIGHT
BEGIN:STANDARD
TZOFFSETFROM:-0400
TZOFFSETTO:-0500
TZNAME:EST
DTSTART:20271107T060000
END:STANDARD
END:VTIMEZONE
BEGIN:VEVENT
DTSTART;TZID=America/New_York:20260114T100000
DTEND;TZID=America/New_York:20260114T120000
DTSTAMP:20260423T145906
CREATED:20251222T162035Z
LAST-MODIFIED:20251223T181102Z
UID:3163-1768384800-1768392000@www.anne-arundel-weed-resistance.org
SUMMARY:Invasive Removal Project
DESCRIPTION:Hello Everyone\, I (Braden Fink | AAAWR) will be hosting an invasive removal project at Kinder Farm Park! This will be the first of many projects I hope to host in spring ’26 and look forward to see you there! We have permission to park in the “Youth camping and horse trailer parking section” We will be working around Bunks Pond. When we get there I’ll go over which areas we are allowed to work on\, and what invasive species are currently present. I’ll be providing tools & trash bags so don’t worry about that\, unless you have your own tools and would like to use them! The details for this event are listed below: \n  \nDATE: 1/14/2026 \nTIME: 9:45am – 12:00pm \nLOCATION: Kinder Farm Park \nWHAT TO BRING: \n\nwater / food & snacks\nlong pants / shirt\nsunglasses / hat\ngloves / bug-spray (if you have them)\ntools (if you have them\, if not no biggy I’ll be supplying as mentioned above)\n\nShare this:\n				Share on X (Opens in new window)\n				X\n			\n				Share on Facebook (Opens in new window)\n				Facebook
URL:https://www.anne-arundel-weed-resistance.org/event-info/invasive-removal-project/
LOCATION:Kinder Farm Park\, 1001 Kinder Farm Park Rd\, Millersville\, MD\, 21108\, United States
END:VEVENT
END:VCALENDAR