BEGIN:VCALENDAR
VERSION:2.0
PRODID:-//Anne Arundel Weed Resistance - ECPv6.15.20//NONSGML v1.0//EN
CALSCALE:GREGORIAN
METHOD:PUBLISH
X-WR-CALNAME:Anne Arundel Weed Resistance
X-ORIGINAL-URL:https://www.anne-arundel-weed-resistance.org
X-WR-CALDESC:Events for Anne Arundel Weed Resistance
REFRESH-INTERVAL;VALUE=DURATION:PT1H
X-Robots-Tag:noindex
X-PUBLISHED-TTL:PT1H
BEGIN:VTIMEZONE
TZID:America/New_York
BEGIN:DAYLIGHT
TZOFFSETFROM:-0500
TZOFFSETTO:-0400
TZNAME:EDT
DTSTART:20230312T070000
END:DAYLIGHT
BEGIN:STANDARD
TZOFFSETFROM:-0400
TZOFFSETTO:-0500
TZNAME:EST
DTSTART:20231105T060000
END:STANDARD
BEGIN:DAYLIGHT
TZOFFSETFROM:-0500
TZOFFSETTO:-0400
TZNAME:EDT
DTSTART:20240310T070000
END:DAYLIGHT
BEGIN:STANDARD
TZOFFSETFROM:-0400
TZOFFSETTO:-0500
TZNAME:EST
DTSTART:20241103T060000
END:STANDARD
BEGIN:DAYLIGHT
TZOFFSETFROM:-0500
TZOFFSETTO:-0400
TZNAME:EDT
DTSTART:20250309T070000
END:DAYLIGHT
BEGIN:STANDARD
TZOFFSETFROM:-0400
TZOFFSETTO:-0500
TZNAME:EST
DTSTART:20251102T060000
END:STANDARD
END:VTIMEZONE
BEGIN:VEVENT
DTSTART;TZID=America/New_York:20240615T093000
DTEND;TZID=America/New_York:20240615T120000
DTSTAMP:20260424T204441
CREATED:20240605T200528Z
LAST-MODIFIED:20240605T200528Z
UID:3145-1718443800-1718452800@www.anne-arundel-weed-resistance.org
SUMMARY:Ulmstead Invasives Removal Event
DESCRIPTION:Hello current and future Weed Warriors! \nJoin us for a community weed removal at Ulmstead Estates\, Dock 2 – 853 Blue Heron Court\, Arnold\, MD. \nEvent starts at 9:30am to 12:00pm. \nAll ages and experience welcome! Tools like gloves\, snippers\, clippers and lopers will be provided. Please wear long sleeves\, sturdy shoes\, long socks\, sunscreen and bugspray. Don’t forget water as well! \nWe’ll find trees for folks to work on where poison ivy is relatively absent\, but there is poison ivy in the area where we will be working. \nSign up here: https://www.signupgenius.com/go/20F0E4FACA623A4FE3-49951798-ulmstead \nShare this:\n				Share on X (Opens in new window)\n				X\n			\n				Share on Facebook (Opens in new window)\n				Facebook
URL:https://www.anne-arundel-weed-resistance.org/event-info/ulmstead-invasives-removal-event/
LOCATION:Ulmstead Estates\, Dock 2\, 853 Blue Heron Court\, Arnold\, MD\, 21012\, United States
END:VEVENT
END:VCALENDAR