BEGIN:VCALENDAR
VERSION:2.0
PRODID:-//Anne Arundel Weed Resistance - ECPv6.15.20//NONSGML v1.0//EN
CALSCALE:GREGORIAN
METHOD:PUBLISH
X-ORIGINAL-URL:https://www.anne-arundel-weed-resistance.org
X-WR-CALDESC:Events for Anne Arundel Weed Resistance
REFRESH-INTERVAL;VALUE=DURATION:PT1H
X-Robots-Tag:noindex
X-PUBLISHED-TTL:PT1H
BEGIN:VTIMEZONE
TZID:America/New_York
BEGIN:DAYLIGHT
TZOFFSETFROM:-0500
TZOFFSETTO:-0400
TZNAME:EDT
DTSTART:20220313T070000
END:DAYLIGHT
BEGIN:STANDARD
TZOFFSETFROM:-0400
TZOFFSETTO:-0500
TZNAME:EST
DTSTART:20221106T060000
END:STANDARD
BEGIN:DAYLIGHT
TZOFFSETFROM:-0500
TZOFFSETTO:-0400
TZNAME:EDT
DTSTART:20230312T070000
END:DAYLIGHT
BEGIN:STANDARD
TZOFFSETFROM:-0400
TZOFFSETTO:-0500
TZNAME:EST
DTSTART:20231105T060000
END:STANDARD
BEGIN:DAYLIGHT
TZOFFSETFROM:-0500
TZOFFSETTO:-0400
TZNAME:EDT
DTSTART:20240310T070000
END:DAYLIGHT
BEGIN:STANDARD
TZOFFSETFROM:-0400
TZOFFSETTO:-0500
TZNAME:EST
DTSTART:20241103T060000
END:STANDARD
END:VTIMEZONE
BEGIN:VEVENT
DTSTART;TZID=America/New_York:20231104T100000
DTEND;TZID=America/New_York:20231104T130000
DTSTAMP:20260425T074215
CREATED:20231102T183525Z
LAST-MODIFIED:20231102T183832Z
UID:3096-1699092000-1699102800@www.anne-arundel-weed-resistance.org
SUMMARY:Hillbottom Tree Plantings and Weed Removal
DESCRIPTION:On 11/4\, from 10am to 1pm at 731 Shore rd\, Severna Park\, Anne Arundel Weed Resistance is partnering with Master Gardeners for a tree planting and weed removal event. \nTree need to be planted at Hillbottom Beach\, and you can help! Hillbottom Beach leads directly into the Severn River\, which is why the Severna Park community started the The Hillbottom Erosion Project. Come join us to remove any invasive plants in the way and plant native trees\, with no digging required! The holes have been pre-dug. \nMaster Gardeners will be on hand to give out free seeds\, advice on correct planting\, and other lawn or garden questions that folks may have. \nRefreshments provided! \n  \nRain date is the next day on 11/5 at the same time. \nShare this:\n				Share on X (Opens in new window)\n				X\n			\n				Share on Facebook (Opens in new window)\n				Facebook
URL:https://www.anne-arundel-weed-resistance.org/event-info/hillbottom-tree-plantings-and-weed-removal/
LOCATION:Hillbottom Beach\, 731 Shore Road\, Severna Park\, 21108\, United States
ORGANIZER;CN="Loretta Jorden":MAILTO:annearundelwr@gmail.com 
END:VEVENT
BEGIN:VEVENT
DTSTART;TZID=America/New_York:20231111T093000
DTEND;TZID=America/New_York:20231111T120000
DTSTAMP:20260425T074215
CREATED:20230921T154128Z
LAST-MODIFIED:20230921T154128Z
UID:3076-1699695000-1699704000@www.anne-arundel-weed-resistance.org
SUMMARY:Christ Our Anchor Church Weed Removal
DESCRIPTION:Anne Arundel Weed Resistance is hosting an event at Christ Our Anchor Church on November 11th\, 2023. \nAll ages and experience welcome! Training will be provided and this can count towards service hours. \nAnne Arundel Weed Resistance will provide gloves\, goggles\, snippers\, lopers and handsaws. Please bring water and wear bug spray and sturdy shoes. \nShare this:\n				Share on X (Opens in new window)\n				X\n			\n				Share on Facebook (Opens in new window)\n				Facebook
URL:https://www.anne-arundel-weed-resistance.org/event-info/christ-our-anchor-church-weed-removal/
LOCATION:Christ Our Anchor Church\, 1281 Green Holly Dr\, Annapolis\, MD\, 21409\, United States
ORGANIZER;CN="Loretta Jorden":MAILTO:annearundelwr@gmail.com 
END:VEVENT
BEGIN:VEVENT
DTSTART;TZID=America/New_York:20231126T130000
DTEND;TZID=America/New_York:20231126T160000
DTSTAMP:20260425T074215
CREATED:20231109T195820Z
LAST-MODIFIED:20231109T195820Z
UID:3103-1701003600-1701014400@www.anne-arundel-weed-resistance.org
SUMMARY:English Ivy Removal Event
DESCRIPTION:On Sunday\, November 26 at 1pm – 4pm\, come to 103 Natalie Lane\, Millersville\, MD.\n\nConservation Area #9 in Park Retreat subdivision is overrun with English Ivy and it must go! Volunteers are needed to help remove the ivy and plant natives in its place. Feel free to come late and/or leave early.\nRefreshments provided! Volunteer hours given for this project.\n\n\n\n\nRestore Park Retreat (Nov)\nShare this:\n				Share on X (Opens in new window)\n				X\n			\n				Share on Facebook (Opens in new window)\n				Facebook
URL:https://www.anne-arundel-weed-resistance.org/event-info/english-ivy-removal-event-3/
LOCATION:103 Natalie Ln\, Millersville\, MD 21108\, USA\, 103 Natalie Ln\, Millersville\, Maryland\, 21108\, United States Minor Outlying Islands
END:VEVENT
END:VCALENDAR