BEGIN:VCALENDAR
VERSION:2.0
PRODID:-//Anne Arundel Weed Resistance - ECPv6.15.20//NONSGML v1.0//EN
CALSCALE:GREGORIAN
METHOD:PUBLISH
X-WR-CALNAME:Anne Arundel Weed Resistance
X-ORIGINAL-URL:https://www.anne-arundel-weed-resistance.org
X-WR-CALDESC:Events for Anne Arundel Weed Resistance
REFRESH-INTERVAL;VALUE=DURATION:PT1H
X-Robots-Tag:noindex
X-PUBLISHED-TTL:PT1H
BEGIN:VTIMEZONE
TZID:America/New_York
BEGIN:DAYLIGHT
TZOFFSETFROM:-0500
TZOFFSETTO:-0400
TZNAME:EDT
DTSTART:20220313T070000
END:DAYLIGHT
BEGIN:STANDARD
TZOFFSETFROM:-0400
TZOFFSETTO:-0500
TZNAME:EST
DTSTART:20221106T060000
END:STANDARD
BEGIN:DAYLIGHT
TZOFFSETFROM:-0500
TZOFFSETTO:-0400
TZNAME:EDT
DTSTART:20230312T070000
END:DAYLIGHT
BEGIN:STANDARD
TZOFFSETFROM:-0400
TZOFFSETTO:-0500
TZNAME:EST
DTSTART:20231105T060000
END:STANDARD
BEGIN:DAYLIGHT
TZOFFSETFROM:-0500
TZOFFSETTO:-0400
TZNAME:EDT
DTSTART:20240310T070000
END:DAYLIGHT
BEGIN:STANDARD
TZOFFSETFROM:-0400
TZOFFSETTO:-0500
TZNAME:EST
DTSTART:20241103T060000
END:STANDARD
END:VTIMEZONE
BEGIN:VEVENT
DTSTART;TZID=America/New_York:20231007T090000
DTEND;TZID=America/New_York:20231007T120000
DTSTAMP:20260425T091132
CREATED:20230928T195006Z
LAST-MODIFIED:20230928T195006Z
UID:3082-1696669200-1696680000@www.anne-arundel-weed-resistance.org
SUMMARY:Cedar Ridge Community Weed Removal Event
DESCRIPTION:Anne Arundel Weed Resistance is partnering with the Cedar Ridge Home Owner’s Association to remove invasive English Ivy from the neighborhood’s trees on October 7th\, 2023.  All ages and experience welcome! Training will be provided and this can count towards service hours. \nAnne Arundel Weed Resistance will provide snippers\, lopers\, and hand saws\, as well as gloves and goggles. Please bring water and wear long sleeves and pants\, white socks\, and bugspray. \nRain date is October 8th the next day. \nShare this:\n				Share on X (Opens in new window)\n				X\n			\n				Share on Facebook (Opens in new window)\n				Facebook
URL:https://www.anne-arundel-weed-resistance.org/event-info/cedar-ridge-community-weed-removal-event-3/
LOCATION:1055 Cedar Ridge Court\, Annapolis MD 21403\, 1055 Cedar Ridge Court\, Annapolis\, MD\, 21403\, United States
END:VEVENT
BEGIN:VEVENT
DTSTART;TZID=America/New_York:20231014T093000
DTEND;TZID=America/New_York:20231014T120000
DTSTAMP:20260425T091132
CREATED:20230921T145724Z
LAST-MODIFIED:20230921T145833Z
UID:3073-1697275800-1697284800@www.anne-arundel-weed-resistance.org
SUMMARY:Twin Oaks Park Ivy Removal
DESCRIPTION:On October 14th\, 2023\, Anne Arundel Weed Resistance will be at Twin Oaks Park to remove invasive plant species such as English Ivy and Wineberry around the park. \nThe weather is finally starting to cool off but please still be mindful of the sun and heat. \nAnne Arundel Weed Resistance will provide snippers\, lopers\, and hand saws\, as well as gloves and goggles. Please bring water and wear long pants\, white socks\, sunscreen and bugspray. \n  \nShare this:\n				Share on X (Opens in new window)\n				X\n			\n				Share on Facebook (Opens in new window)\n				Facebook
URL:https://www.anne-arundel-weed-resistance.org/event-info/twin-oaks-park/
LOCATION:Twin Oaks Park\, 240 Peninsula Farm RD\, Arnold\, MD\, 21012\, United States
ORGANIZER;CN="Loretta Jorden":MAILTO:annearundelwr@gmail.com 
END:VEVENT
BEGIN:VEVENT
DTSTART;TZID=America/New_York:20231015T130000
DTEND;TZID=America/New_York:20231015T160000
DTSTAMP:20260425T091132
CREATED:20231012T150511Z
LAST-MODIFIED:20231012T150511Z
UID:3091-1697374800-1697385600@www.anne-arundel-weed-resistance.org
SUMMARY:Planting and English Ivy Removal Event
DESCRIPTION:Planting and English Ivy Removal Event\nSunday\, October 15\, 2023\n1 pm to 4 pm \nEnglish Ivy pushes out and excludes almost all other vegetation! It has overrun Forest Conservation Area #9 in Park Retreat subdivision for too long and is on its way out! Volunteers are needed to help remove the ivy and plant natives in its place. If you are thinning out shade-loving natives\, feel free to bring your extras! \nFeel free to come late and/or leave early. Refreshments provided! \nMG Volunteer hours given for this project (when submitting hours\, state that Fran Garcia approved this project) \nShare this:\n				Share on X (Opens in new window)\n				X\n			\n				Share on Facebook (Opens in new window)\n				Facebook
URL:https://www.anne-arundel-weed-resistance.org/event-info/planting-and-english-ivy-removal-event/
LOCATION:103 Natalie Ln\, Millersville\, MD 21108\, USA\, 103 Natalie Ln\, Millersville\, Maryland\, 21108\, United States Minor Outlying Islands
ORGANIZER;CN="Loretta Jorden":MAILTO:annearundelwr@gmail.com 
END:VEVENT
BEGIN:VEVENT
DTSTART;TZID=America/New_York:20231028T093000
DTEND;TZID=America/New_York:20231028T120000
DTSTAMP:20260425T091132
CREATED:20231030T172002Z
LAST-MODIFIED:20231030T172002Z
UID:3093-1698485400-1698494400@www.anne-arundel-weed-resistance.org
SUMMARY:6th English Ivy Removal Event at Broadneck Park
DESCRIPTION:Anne Arundel Weed Resistance and Save Our Trees will be hosting the 5th Weed Removal event at Broadneck Park (613 College Parkway Annapolis\, MD) – The area of focus for this event will be invasive vine removal from the trees near the dog park. Park near the dog park. \nAll levels of volunteers are welcome from novices to experienced to experts.  Novices will be taught to identify and remove invasive vines.\n\nWear gardening gloves\,  long sleeved shirts\, pants (shorts are discouraged) and sturdy shoes/ boots.  Bring water\, sunblock and bug/tick spray.  Snipers\, clippers\, gloves\, goggles and handsaws will be provided.\nShare this:\n				Share on X (Opens in new window)\n				X\n			\n				Share on Facebook (Opens in new window)\n				Facebook
URL:https://www.anne-arundel-weed-resistance.org/event-info/6th-english-ivy-removal-event-at-broadneck-park/
LOCATION:Broadneck Park\, 613 College Park\, Annapolis\, MD\, 21409\, United States
ORGANIZER;CN="Loretta Jorden":MAILTO:annearundelwr@gmail.com 
END:VEVENT
END:VCALENDAR