BEGIN:VCALENDAR
VERSION:2.0
PRODID:-//Anne Arundel Weed Resistance - ECPv6.15.20//NONSGML v1.0//EN
CALSCALE:GREGORIAN
METHOD:PUBLISH
X-WR-CALNAME:Anne Arundel Weed Resistance
X-ORIGINAL-URL:https://www.anne-arundel-weed-resistance.org
X-WR-CALDESC:Events for Anne Arundel Weed Resistance
REFRESH-INTERVAL;VALUE=DURATION:PT1H
X-Robots-Tag:noindex
X-PUBLISHED-TTL:PT1H
BEGIN:VTIMEZONE
TZID:America/New_York
BEGIN:DAYLIGHT
TZOFFSETFROM:-0500
TZOFFSETTO:-0400
TZNAME:EDT
DTSTART:20220313T070000
END:DAYLIGHT
BEGIN:STANDARD
TZOFFSETFROM:-0400
TZOFFSETTO:-0500
TZNAME:EST
DTSTART:20221106T060000
END:STANDARD
BEGIN:DAYLIGHT
TZOFFSETFROM:-0500
TZOFFSETTO:-0400
TZNAME:EDT
DTSTART:20230312T070000
END:DAYLIGHT
BEGIN:STANDARD
TZOFFSETFROM:-0400
TZOFFSETTO:-0500
TZNAME:EST
DTSTART:20231105T060000
END:STANDARD
BEGIN:DAYLIGHT
TZOFFSETFROM:-0500
TZOFFSETTO:-0400
TZNAME:EDT
DTSTART:20240310T070000
END:DAYLIGHT
BEGIN:STANDARD
TZOFFSETFROM:-0400
TZOFFSETTO:-0500
TZNAME:EST
DTSTART:20241103T060000
END:STANDARD
END:VTIMEZONE
BEGIN:VEVENT
DTSTART;TZID=America/New_York:20230513T093000
DTEND;TZID=America/New_York:20230513T120000
DTSTAMP:20260425T173809
CREATED:20230413T183234Z
LAST-MODIFIED:20230413T183234Z
UID:3014-1683970200-1683979200@www.anne-arundel-weed-resistance.org
SUMMARY:Twin Oaks Ivy Removal
DESCRIPTION:Join us at Twin Oaks Park on May 13th\, 2023 to remove invasive plant species such as English Ivy and Wineberry around the park. This will help out native plants grow instead and help YOU become a Weed Warrior. \nRSVP at https://www.signupgenius.com/go/70a0e4fa5ab28abf49-twin \n  \n \nShare this:\n				Share on X (Opens in new window)\n				X\n			\n				Share on Facebook (Opens in new window)\n				Facebook
URL:https://www.anne-arundel-weed-resistance.org/event-info/twin-oaks-ivy-removal/
LOCATION:Twin Oaks Park\, 240 Peninsula Farm RD\, Arnold\, MD\, 21012\, United States
ORGANIZER;CN="Loretta Jorden":MAILTO:annearundelwr@gmail.com 
END:VEVENT
BEGIN:VEVENT
DTSTART;TZID=America/New_York:20230525T153000
DTEND;TZID=America/New_York:20230525T170000
DTSTAMP:20260425T173809
CREATED:20230522T182728Z
LAST-MODIFIED:20230522T182728Z
UID:3031-1685028600-1685034000@www.anne-arundel-weed-resistance.org
SUMMARY:Arlington Echo Shoreline Planting
DESCRIPTION:Arlington Echo is very excited to welcome back our Land Steward Volunteers! \nArlington Echo is hosting volunteer events every other Thursday afternoon/evening this summer starting this Thursday. I will be in touch about the weekly details as the dates approach. This coming Thursday we will be at the waterfront replanting the shoreline on the Severn River. Arlington Echo has been growing swamp hibiscus and grasses for us and they are ready to get out of the greenhouse! \nShare this:\n				Share on X (Opens in new window)\n				X\n			\n				Share on Facebook (Opens in new window)\n				Facebook
URL:https://www.anne-arundel-weed-resistance.org/event-info/arlington-echo-shoreline-planting/
LOCATION:Arlington Echo Outdoor Education Center\, 975 Indian Landing Rd\, Millersville\, MD\, 21108\, United States
ORGANIZER;CN="Loretta Jorden":MAILTO:annearundelwr@gmail.com 
END:VEVENT
BEGIN:VEVENT
DTSTART;TZID=America/New_York:20230528T100000
DTEND;TZID=America/New_York:20230528T120000
DTSTAMP:20260425T173809
CREATED:20230523T192519Z
LAST-MODIFIED:20230523T192519Z
UID:3038-1685268000-1685275200@www.anne-arundel-weed-resistance.org
SUMMARY:Millersville Community Invasive Plant  Removal
DESCRIPTION:From 10am to 12pm on May 28th\, Anne Arundel Weed Resistance will be hosting a weed removal event\, where local resident and Weed Warrior Andrea Weir is leading the project! Please come and show your support; we will have the event rain or shine. \nThe event is behind 103 Natalie Ln\, Millersville\, MD 21108: park on the side of the road and walk on the path behind the houses to find a small park we will be removing invasive species from. \nAnne Arundel Weed Resistance will provide gloves\, goggles\, snippers\, lopers and handsaws. Please bring water and wear long sleeves and sturdy shoes. \nHope to see you there Weed Warriors! \nShare this:\n				Share on X (Opens in new window)\n				X\n			\n				Share on Facebook (Opens in new window)\n				Facebook
URL:https://www.anne-arundel-weed-resistance.org/event-info/millersville-community-invasive-plant-removal/
LOCATION:103 Natalie Ln\, Millersville\, MD 21108\, USA\, 103 Natalie Ln\, Millersville\, Maryland\, 21108\, United States Minor Outlying Islands
ORGANIZER;CN="Loretta Jorden":MAILTO:annearundelwr@gmail.com 
END:VEVENT
END:VCALENDAR