BEGIN:VCALENDAR
VERSION:2.0
PRODID:-//Anne Arundel Weed Resistance - ECPv6.15.20//NONSGML v1.0//EN
CALSCALE:GREGORIAN
METHOD:PUBLISH
X-ORIGINAL-URL:https://www.anne-arundel-weed-resistance.org
X-WR-CALDESC:Events for Anne Arundel Weed Resistance
REFRESH-INTERVAL;VALUE=DURATION:PT1H
X-Robots-Tag:noindex
X-PUBLISHED-TTL:PT1H
BEGIN:VTIMEZONE
TZID:America/New_York
BEGIN:DAYLIGHT
TZOFFSETFROM:-0500
TZOFFSETTO:-0400
TZNAME:EDT
DTSTART:20220313T070000
END:DAYLIGHT
BEGIN:STANDARD
TZOFFSETFROM:-0400
TZOFFSETTO:-0500
TZNAME:EST
DTSTART:20221106T060000
END:STANDARD
BEGIN:DAYLIGHT
TZOFFSETFROM:-0500
TZOFFSETTO:-0400
TZNAME:EDT
DTSTART:20230312T070000
END:DAYLIGHT
BEGIN:STANDARD
TZOFFSETFROM:-0400
TZOFFSETTO:-0500
TZNAME:EST
DTSTART:20231105T060000
END:STANDARD
BEGIN:DAYLIGHT
TZOFFSETFROM:-0500
TZOFFSETTO:-0400
TZNAME:EDT
DTSTART:20240310T070000
END:DAYLIGHT
BEGIN:STANDARD
TZOFFSETFROM:-0400
TZOFFSETTO:-0500
TZNAME:EST
DTSTART:20241103T060000
END:STANDARD
END:VTIMEZONE
BEGIN:VEVENT
DTSTART;TZID=America/New_York:20230401T100000
DTEND;TZID=America/New_York:20230401T120000
DTSTAMP:20260425T191248
CREATED:20230331T131822Z
LAST-MODIFIED:20230331T131822Z
UID:3011-1680343200-1680350400@www.anne-arundel-weed-resistance.org
SUMMARY:Hillbottom Weed Removal
DESCRIPTION:Share this:\n				Share on X (Opens in new window)\n				X\n			\n				Share on Facebook (Opens in new window)\n				Facebook
URL:https://www.anne-arundel-weed-resistance.org/event-info/hillbottom-weed-removal/
LOCATION:Carrollton Manor\, Hillbottom Beach Shore Road\, Severna Park\, MD\, 21146\, United States
ORGANIZER;CN="Loretta Jorden":MAILTO:annearundelwr@gmail.com 
END:VEVENT
BEGIN:VEVENT
DTSTART;TZID=America/New_York:20230405T100000
DTEND;TZID=America/New_York:20230405T123000
DTSTAMP:20260425T191248
CREATED:20230329T181528Z
LAST-MODIFIED:20230329T181528Z
UID:3008-1680688800-1680697800@www.anne-arundel-weed-resistance.org
SUMMARY:Londontown Gardens Workshop
DESCRIPTION:On April 5th at 10:00am to 12:30pm\, Anne Arundel Weed Resistance will host a hands-on workshop where our Volunteer Coordinator Loretta Jorden will teach new recruits on how to be a Weed Warrior. Volunteers who show will get instructions in species identification and ecology\, control methods\, tool use and safety\, and outdoor safety skills. \n  \nPlease watch the training videos found in the training section of the website BEFORE showing up at the workshop. Once you complete the videos\, confirm you did through the video confirmation form that is also on the training tab. You can still attend the workshop without watching the videos\, but if you want to become a card-carrying Weed Warrior\, the video confirmation form must be filled out. \n  \nSign up to the workshop through the link below: \nhttps://www.signupgenius.com/go/70A0E4FA5AB28ABF49-londontown \nAnne Arundel Weed Resistance will provide gloves\, goggles\, snippers\, lopers and handsaws. Please bring water and wear long sleeves and sturdy shoes. \n  \nShare this:\n				Share on X (Opens in new window)\n				X\n			\n				Share on Facebook (Opens in new window)\n				Facebook
URL:https://www.anne-arundel-weed-resistance.org/event-info/londontown-gardens-workshop/
LOCATION:Londontown Gardens\, 839 Londontown Rd\, Edgewater\, MD\, 21037\, United States
ORGANIZER;CN="Loretta Jorden":MAILTO:annearundelwr@gmail.com 
END:VEVENT
BEGIN:VEVENT
DTSTART;TZID=America/New_York:20230408T093000
DTEND;TZID=America/New_York:20230408T120000
DTSTAMP:20260425T191248
CREATED:20230323T183326Z
LAST-MODIFIED:20230328T192836Z
UID:3003-1680946200-1680955200@www.anne-arundel-weed-resistance.org
SUMMARY:3rd English Ivy Removal Event at Broadneck Park
DESCRIPTION:We are having our third invasive plant removal at Broadneck Park on April 8th. Meet at Parking Lot 3 where we will complete a safety briefing beforehand. \nAs always\, Anne Arundel Weed Resistance will provide snippers\, lopers\, and hand saws\, as well as gloves and goggles. \nSign up below to RSVP: https://www.signupgenius.com/go/70a0e4fa5ab28abf49-broadneck \n  \n \nShare this:\n				Share on X (Opens in new window)\n				X\n			\n				Share on Facebook (Opens in new window)\n				Facebook
URL:https://www.anne-arundel-weed-resistance.org/event-info/3rd-english-ivy-removal-event-at-broadneck-park/
LOCATION:Broadneck Park\, 613 College Park\, Annapolis\, MD\, 21409\, United States
ORGANIZER;CN="Loretta Jorden":MAILTO:annearundelwr@gmail.com 
END:VEVENT
BEGIN:VEVENT
DTSTART;TZID=America/New_York:20230430T100000
DTEND;TZID=America/New_York:20230430T120000
DTSTAMP:20260425T191248
CREATED:20230424T195905Z
LAST-MODIFIED:20230501T135729Z
UID:3018-1682848800-1682856000@www.anne-arundel-weed-resistance.org
SUMMARY:Restore Park Retreat!
DESCRIPTION:  \n  \nHello Weed Warriors! Join us on May to help remove invasive plants from a community park in Millersville that needs our help. We will be focused on the removal of oriental bittersweet\, multiflora rose\, and English ivy. \nAAWR will provide gloves\, snippers\, clippers\, and lopers. There will be refreshments provided by Andrea Weir\, who helped us organize the event. Please sign in when you arrive and remember tool safety! \nShare this:\n				Share on X (Opens in new window)\n				X\n			\n				Share on Facebook (Opens in new window)\n				Facebook
URL:https://www.anne-arundel-weed-resistance.org/event-info/restore-park-retreat/
LOCATION:103 Natalie Ln\, Millersville\, MD 21108\, USA\, 103 Natalie Ln\, Millersville\, Maryland\, 21108\, United States Minor Outlying Islands
ORGANIZER;CN="Loretta Jorden":MAILTO:annearundelwr@gmail.com 
END:VEVENT
END:VCALENDAR