BEGIN:VCALENDAR
VERSION:2.0
PRODID:-//Anne Arundel Weed Resistance - ECPv6.15.20//NONSGML v1.0//EN
CALSCALE:GREGORIAN
METHOD:PUBLISH
X-ORIGINAL-URL:https://www.anne-arundel-weed-resistance.org
X-WR-CALDESC:Events for Anne Arundel Weed Resistance
REFRESH-INTERVAL;VALUE=DURATION:PT1H
X-Robots-Tag:noindex
X-PUBLISHED-TTL:PT1H
BEGIN:VTIMEZONE
TZID:America/New_York
BEGIN:DAYLIGHT
TZOFFSETFROM:-0500
TZOFFSETTO:-0400
TZNAME:EDT
DTSTART:20220313T070000
END:DAYLIGHT
BEGIN:STANDARD
TZOFFSETFROM:-0400
TZOFFSETTO:-0500
TZNAME:EST
DTSTART:20221106T060000
END:STANDARD
BEGIN:DAYLIGHT
TZOFFSETFROM:-0500
TZOFFSETTO:-0400
TZNAME:EDT
DTSTART:20230312T070000
END:DAYLIGHT
BEGIN:STANDARD
TZOFFSETFROM:-0400
TZOFFSETTO:-0500
TZNAME:EST
DTSTART:20231105T060000
END:STANDARD
BEGIN:DAYLIGHT
TZOFFSETFROM:-0500
TZOFFSETTO:-0400
TZNAME:EDT
DTSTART:20240310T070000
END:DAYLIGHT
BEGIN:STANDARD
TZOFFSETFROM:-0400
TZOFFSETTO:-0500
TZNAME:EST
DTSTART:20241103T060000
END:STANDARD
END:VTIMEZONE
BEGIN:VEVENT
DTSTART;TZID=America/New_York:20230318T090000
DTEND;TZID=America/New_York:20230318T130000
DTSTAMP:20260425T203637
CREATED:20230306T165915Z
LAST-MODIFIED:20230307T172540Z
UID:2986-1679130000-1679144400@www.anne-arundel-weed-resistance.org
SUMMARY:Michael E. Busch Annapolis Library Workshop
DESCRIPTION:Anne Arundel Weed Resistance is having its first official workshop of spring! On March 18th\, 2023 at the Michael E. Busch Annapolis Library\, we will be hosting a hands-on workshop where our Volunteer Coordinator Loretta Jorden will teach new recruits on how to be a Weed Warrior. Volunteers who show will get instructions in species identification and ecology\, control methods\, tool use and safety\, and outdoor safety skills. \nPlease watch the training videos found in the training section of the website BEFORE showing up at the workshop. Once you complete the videos\, confirm you did through the video confirmation form that is also on the training tab. You can still attend the workshop without watching the videos\, but if you want to become a card-carrying Weed Warrior\, the video confirmation form must be filled out. \nPlease sign up to the workshop through the link below: \nhttps://www.signupgenius.com/go/70A0E4FA5AB28ABF49-michael \n  \nAnne Arundel Weed Resistance will provide gloves\, goggles\, snippers\, lopers and handsaws. Please bring water and wear long sleeves and sturdy shoes. \nShare this:\n				Share on X (Opens in new window)\n				X\n			\n				Share on Facebook (Opens in new window)\n				Facebook
URL:https://www.anne-arundel-weed-resistance.org/event-info/michael-e-busch-annapolis-library-workshop/
LOCATION:Annapolis Library\, 1410 West Street\, Annapolis\, MD\, 21401\, United States
ORGANIZER;CN="Loretta Jorden":MAILTO:annearundelwr@gmail.com 
END:VEVENT
BEGIN:VEVENT
DTSTART;TZID=America/New_York:20230319T093000
DTEND;TZID=America/New_York:20230319T120000
DTSTAMP:20260425T203637
CREATED:20230221T192754Z
LAST-MODIFIED:20230221T192754Z
UID:2980-1679218200-1679227200@www.anne-arundel-weed-resistance.org
SUMMARY:Ivy Clearing at Truxtun Park
DESCRIPTION:Join us and Save Our Trees for an ivy clearing event at Truxtun Park. We will meet at the parking lot of the swimming pool. Please register for the event through the link below! See you there!\nhttps://www.signupgenius.com/go/60B0949AEA629A4F58-save7 \nShare this:\n				Share on X (Opens in new window)\n				X\n			\n				Share on Facebook (Opens in new window)\n				Facebook
URL:https://www.anne-arundel-weed-resistance.org/event-info/ivy-clearing-at-truxtun-park/
LOCATION:Trixtun Park\, 251 Pump House Rd\, Annapolis\, MD 21403\, Annapolis\, 21403\, United States
ORGANIZER;CN="Loretta Jorden":MAILTO:annearundelwr@gmail.com 
END:VEVENT
BEGIN:VEVENT
DTSTART;TZID=America/New_York:20230319T113000
DTEND;TZID=America/New_York:20230319T140000
DTSTAMP:20260425T203637
CREATED:20230308T234852Z
LAST-MODIFIED:20230308T235935Z
UID:2993-1679225400-1679234400@www.anne-arundel-weed-resistance.org
SUMMARY:Broadneck Park Ivy Clearing
DESCRIPTION:We are having our second invasive plant removal at Broadneck Park on March 19th. Meet at Parking Lot 3 where we will complete a safety briefing beforehand. \nAs always\, Anne Arundel Weed Resistance will provide snippers\, lopers\, and hand saws\, as well as gloves and goggles. Last time at Broadneck we removed English Ivy from over 20 trees and made a huge difference; let’s keep it up Weed Warriors. \nSign up below to RSVP: https://www.signupgenius.com/go/70a0e4fa5ab28abf49-english \nShare this:\n				Share on X (Opens in new window)\n				X\n			\n				Share on Facebook (Opens in new window)\n				Facebook
URL:https://www.anne-arundel-weed-resistance.org/event-info/broadneck-park-ivy-clearing/
LOCATION:Broadneck Park\, 613 College Park\, Annapolis\, MD\, 21409\, United States
ORGANIZER;CN="Loretta Jorden":MAILTO:annearundelwr@gmail.com 
END:VEVENT
BEGIN:VEVENT
DTSTART;TZID=America/New_York:20230324T100000
DTEND;TZID=America/New_York:20230324T120000
DTSTAMP:20260425T203637
CREATED:20230321T182443Z
LAST-MODIFIED:20230321T182443Z
UID:2999-1679652000-1679659200@www.anne-arundel-weed-resistance.org
SUMMARY:Millersville Weed Removal and Training
DESCRIPTION:We are having our first weed removal event at Millersville from 10am to 12pm. \nThe event is behind 103 Natalie Ln\, Millersville\, MD 21108\, USA: park on the side of the road and walk on the path behind the houses to find a small park we will be removing invasive species from. \nAnne Arundel Weed Resistance will provide gloves\, goggles\, snippers\, lopers and handsaws. Please bring water and wear long sleeves and sturdy shoes. \nPlease consider watching the training videos found in the training section of the website for additional information and safety instructions. \nShare this:\n				Share on X (Opens in new window)\n				X\n			\n				Share on Facebook (Opens in new window)\n				Facebook
URL:https://www.anne-arundel-weed-resistance.org/event-info/millersville-weed-removal-and-training/
LOCATION:103 Natalie Ln\, Millersville\, MD 21108\, USA\, 103 Natalie Ln\, Millersville\, Maryland\, 21108\, United States Minor Outlying Islands
ORGANIZER;CN="Loretta Jorden":MAILTO:annearundelwr@gmail.com 
END:VEVENT
BEGIN:VEVENT
DTSTART;TZID=America/New_York:20230326T090000
DTEND;TZID=America/New_York:20230326T090000
DTSTAMP:20260425T203637
CREATED:20230321T181800Z
LAST-MODIFIED:20230323T175746Z
UID:2996-1679821200-1679821200@www.anne-arundel-weed-resistance.org
SUMMARY:Cedar Ridge Community Weed Removal Event
DESCRIPTION:We are having our second invasive plant removal at Cedar Ridge Community on March 26th from 9am to 12pm. Rain date is at the same time the next day. \nAnne Arundel Weed Resistance will provide gloves\, goggles\, snippers\, lopers and handsaws. Please bring water and wear long sleeves and sturdy shoes. \nPlease consider watching the training videos found in the training section of the website for additional information and safety instructions. \n  \nShare this:\n				Share on X (Opens in new window)\n				X\n			\n				Share on Facebook (Opens in new window)\n				Facebook
URL:https://www.anne-arundel-weed-resistance.org/event-info/cedar-ridge-community-weed-removal-event-2/
LOCATION:1055 Cedar Ridge Court\, Annapolis MD 21403\, 1055 Cedar Ridge Court\, Annapolis\, MD\, 21403\, United States
ORGANIZER;CN="Loretta Jorden":MAILTO:annearundelwr@gmail.com 
END:VEVENT
END:VCALENDAR