BEGIN:VCALENDAR
VERSION:2.0
PRODID:-//Anne Arundel Weed Resistance - ECPv6.15.20//NONSGML v1.0//EN
CALSCALE:GREGORIAN
METHOD:PUBLISH
X-WR-CALNAME:Anne Arundel Weed Resistance
X-ORIGINAL-URL:https://www.anne-arundel-weed-resistance.org
X-WR-CALDESC:Events for Anne Arundel Weed Resistance
REFRESH-INTERVAL;VALUE=DURATION:PT1H
X-Robots-Tag:noindex
X-PUBLISHED-TTL:PT1H
BEGIN:VTIMEZONE
TZID:America/New_York
BEGIN:DAYLIGHT
TZOFFSETFROM:-0500
TZOFFSETTO:-0400
TZNAME:EDT
DTSTART:20220313T070000
END:DAYLIGHT
BEGIN:STANDARD
TZOFFSETFROM:-0400
TZOFFSETTO:-0500
TZNAME:EST
DTSTART:20221106T060000
END:STANDARD
BEGIN:DAYLIGHT
TZOFFSETFROM:-0500
TZOFFSETTO:-0400
TZNAME:EDT
DTSTART:20230312T070000
END:DAYLIGHT
BEGIN:STANDARD
TZOFFSETFROM:-0400
TZOFFSETTO:-0500
TZNAME:EST
DTSTART:20231105T060000
END:STANDARD
BEGIN:DAYLIGHT
TZOFFSETFROM:-0500
TZOFFSETTO:-0400
TZNAME:EDT
DTSTART:20240310T070000
END:DAYLIGHT
BEGIN:STANDARD
TZOFFSETFROM:-0400
TZOFFSETTO:-0500
TZNAME:EST
DTSTART:20241103T060000
END:STANDARD
END:VTIMEZONE
BEGIN:VEVENT
DTSTART;TZID=America/New_York:20230205T140000
DTEND;TZID=America/New_York:20230205T160000
DTSTAMP:20260425T220452
CREATED:20230130T150748Z
LAST-MODIFIED:20230130T150748Z
UID:2977-1675605600-1675612800@www.anne-arundel-weed-resistance.org
SUMMARY:Quiet Water Park Invasive Removal
DESCRIPTION:https://www.signupgenius.com/go/10C0C49AFAE2EA6F4C52-invasive1 \n \nShare this:\n				Share on X (Opens in new window)\n				X\n			\n				Share on Facebook (Opens in new window)\n				Facebook
URL:https://www.anne-arundel-weed-resistance.org/event-info/quiet-water-park-invasive-removal/
LOCATION:Quiet Waters Park\, 600 Quiet Waters Park Rd\, Annapolis\, MD 21403\, Annapolis\, 21403\, United States
END:VEVENT
BEGIN:VEVENT
DTSTART;TZID=America/New_York:20230211T093000
DTEND;TZID=America/New_York:20230211T120000
DTSTAMP:20260425T220452
CREATED:20230117T195636Z
LAST-MODIFIED:20230117T195636Z
UID:2973-1676107800-1676116800@www.anne-arundel-weed-resistance.org
SUMMARY:Help Save Our Trees at Broadneck Park!
DESCRIPTION:Broadneck Park Flyer 1_2023Help Save Our Treesat Broadneck Park!Join Save Our Trees & Anne Arundel Weed Warriorsat Broadneck Park to remove English ivyBring gloves\, loppers\, hand saws\, water and bug spray. Wear long pants and long–sleeved shirts. No experience necessary. We will teach you. Bring a friend!Meet at Broadneck Park\, 613 College Park\, Annapolis\, 21409. Go to parking lot 3 by thechildren’s playground and picnic pavilion. \n  \nFebruary 11\, 2023 from 9:45 a.m. – 12:00 p.m.Sign up at: www.signupgenius.com/go/60B0949AEA629A4F58–save6 \nAny questions\, contact us at:Saveourtreestogether@gmail.com or go towww.saveourtreestogether.org \n\n\n\n\n\n\n\n\n\n\n\n\n\nShare this:\n				Share on X (Opens in new window)\n				X\n			\n				Share on Facebook (Opens in new window)\n				Facebook
URL:https://www.anne-arundel-weed-resistance.org/event-info/help-save-our-trees-at-broadneck-park/
LOCATION:Broadneck Park\, 613 College Park\, Annapolis\, MD\, 21409\, United States
ORGANIZER;CN="Loretta Jorden":MAILTO:annearundelwr@gmail.com 
END:VEVENT
BEGIN:VEVENT
DTSTART;TZID=America/New_York:20230213T163000
DTEND;TZID=America/New_York:20230213T193000
DTSTAMP:20260425T220452
CREATED:20230117T193826Z
LAST-MODIFIED:20230117T193826Z
UID:2969-1676305800-1676316600@www.anne-arundel-weed-resistance.org
SUMMARY:Bay Invaders needs Volunteers!
DESCRIPTION:Bay Invaders is an award-winning program that supports Anne Arundel County 9th grade students in learning about and actively removing invasive plant species from our community and regional parks. Created in 2017\, the program has engaged 2500 students who have removed nearly 4\,000lbs of invasive plants creating a strong and more resilient local\, native ecosystem. Program partners include Arlington Echo Outdoor Education Center\, Anne Arundel County Recreation & Parks\, Anne Arundel County Weed Resistance\, Maryland Master Gardeners\, and more. \nVolunteers will be assigned to school as well as a team of rangers and teachers to support the program. Volunteers commit to providing 15 hours to the project between the months of February and April. Duties can include classroom presentations\, reviewing student-created invasive species management plans\, and guiding student removal efforts in the field. Volunteers do not need any previous teaching experience. You must be able to pass an AACPS background check and provide your own transportation. \nAll participating teachers\, rangers\, and volunteers will attend an in-person kick-off event and training on Wednesday\, February 15\, 4:30pm-7:30pm at Arlington Echo Outdoor Education Center. Visit the Bay Invaders Program Website to learn more and sign up today! \n \nShare this:\n				Share on X (Opens in new window)\n				X\n			\n				Share on Facebook (Opens in new window)\n				Facebook
URL:https://www.anne-arundel-weed-resistance.org/event-info/bay-invaders-needs-volunteers/
LOCATION:Arlington Echo Outdoor Education Center\, 975 Indian Landing Rd\, Millersville\, MD\, 21108\, United States
ORGANIZER;CN="Loretta Jorden":MAILTO:annearundelwr@gmail.com 
END:VEVENT
END:VCALENDAR